Workbook

Sheet 使い方
A1: 決算報告の説明メモの使い方
A3: 手順 | B3: 何をする | C3: どこに入れる
A4: 1 | B4: 年度の始まる年と会の名前を入れる | C4: 説明メモ B2・B3
A5: 2 | B5: 収支報告書から、前年度繰越金と、科目ごとの予算額・決算額を写す（前年度繰越金は B5 だけに入れ、表には入れない） | C5: 説明メモ B5、B・C・D 列
A6: 3 | B6: 「読む」が付いた行と、繰越金の行に、理由を1文ずつ書く | C6: 説明メモ G 列、B6
A7: 4 | B7: 「説明原稿」を印刷し、前日に声に出して読む。秒数は1分300字の目安 | C7: 説明原稿
A8: 5 | B8: 想定問答の答えを1〜2文で書き、答える人を役員会で決める | C8: 想定問答 E 列・D 列
A9: 6 | B9: 総会で出た質問と答えを足して、次の会計に渡す | C9: 想定問答 12 行目から
A11: 読む行は、決算額と予算額の差が B4 の金額以上の行と、支出で予算を超えた行です。B4 は変えられます。
A12: 答えられない質問は、確かめて回覧でお知らせすると伝え、議事録に残します。

Sheet 説明メモ
A1: 決算報告の説明メモ
A2: 年度の始まる年 | C2: ← 2026年4月〜2027年3月なら 2026 と入れる
A3: 会の名前
A4: 読む差の目安（円） | B4: 5000 | C4: ← 差がこの金額以上の行に「読む」が付く
A5: 前年度繰越金 | C5: ← 収支報告書の前年度繰越金
A6: 繰越金が増えた・減った理由（1文）
A8: 前年度繰越金は B5 だけに入れます。下の表の収入には入れません。
A9: 区分 | B9: 科目 | C9: 予算額 | D9: 決算額 | E9: 差 | F9: 読む | G9: 理由（1文） | H9: 開く紙 | I9: 順 | K9: 項目 | L9: 金額
A10: 収入 | E10: =IF(AND(C10="",D10=""),"",N(D10)-N(C10)) | F10: =IF(OR(B10="",E10=""),"",IF(OR(AND(A10="支出",E10>0),ABS(E10)>=N($B$4)),"読む","")) | I10: =IF(F10="読む",COUNTIF($F$10:F10,"読む"),"") | K10: 前年度繰越金 | L10: =N(B5)
A11: 収入 | E11: =IF(AND(C11="",D11=""),"",N(D11)-N(C11)) | F11: =IF(OR(B11="",E11=""),"",IF(OR(AND(A11="支出",E11>0),ABS(E11)>=N($B$4)),"読む","")) | I11: =IF(F11="読む",COUNTIF($F$10:F11,"読む"),"") | K11: 今年度の収入（繰越金を除く） | L11: =SUMIF(A10:A34,"収入",D10:D34)
A12: 収入 | E12: =IF(AND(C12="",D12=""),"",N(D12)-N(C12)) | F12: =IF(OR(B12="",E12=""),"",IF(OR(AND(A12="支出",E12>0),ABS(E12)>=N($B$4)),"読む","")) | I12: =IF(F12="読む",COUNTIF($F$10:F12,"読む"),"") | K12: 収入合計 | L12: =L10+L11
A13: 収入 | E13: =IF(AND(C13="",D13=""),"",N(D13)-N(C13)) | F13: =IF(OR(B13="",E13=""),"",IF(OR(AND(A13="支出",E13>0),ABS(E13)>=N($B$4)),"読む","")) | I13: =IF(F13="読む",COUNTIF($F$10:F13,"読む"),"") | K13: 支出合計 | L13: =SUMIF(A10:A34,"支出",D10:D34)
A14: 収入 | E14: =IF(AND(C14="",D14=""),"",N(D14)-N(C14)) | F14: =IF(OR(B14="",E14=""),"",IF(OR(AND(A14="支出",E14>0),ABS(E14)>=N($B$4)),"読む","")) | I14: =IF(F14="読む",COUNTIF($F$10:F14,"読む"),"") | K14: 次年度繰越金 | L14: =L12-L13
A15: 収入 | E15: =IF(AND(C15="",D15=""),"",N(D15)-N(C15)) | F15: =IF(OR(B15="",E15=""),"",IF(OR(AND(A15="支出",E15>0),ABS(E15)>=N($B$4)),"読む","")) | I15: =IF(F15="読む",COUNTIF($F$10:F15,"読む"),"") | K15: 繰越金の増減 | L15: =L14-L10
A16: 収入 | E16: =IF(AND(C16="",D16=""),"",N(D16)-N(C16)) | F16: =IF(OR(B16="",E16=""),"",IF(OR(AND(A16="支出",E16>0),ABS(E16)>=N($B$4)),"読む","")) | I16: =IF(F16="読む",COUNTIF($F$10:F16,"読む"),"") | K16: 読む行の数 | L16: =COUNTIF(F10:F34,"読む")
A17: 収入 | E17: =IF(AND(C17="",D17=""),"",N(D17)-N(C17)) | F17: =IF(OR(B17="",E17=""),"",IF(OR(AND(A17="支出",E17>0),ABS(E17)>=N($B$4)),"読む","")) | I17: =IF(F17="読む",COUNTIF($F$10:F17,"読む"),"")
A18: 収入 | E18: =IF(AND(C18="",D18=""),"",N(D18)-N(C18)) | F18: =IF(OR(B18="",E18=""),"",IF(OR(AND(A18="支出",E18>0),ABS(E18)>=N($B$4)),"読む","")) | I18: =IF(F18="読む",COUNTIF($F$10:F18,"読む"),"")
A19: 収入 | E19: =IF(AND(C19="",D19=""),"",N(D19)-N(C19)) | F19: =IF(OR(B19="",E19=""),"",IF(OR(AND(A19="支出",E19>0),ABS(E19)>=N($B$4)),"読む","")) | I19: =IF(F19="読む",COUNTIF($F$10:F19,"読む"),"")
A20: 支出 | E20: =IF(AND(C20="",D20=""),"",N(D20)-N(C20)) | F20: =IF(OR(B20="",E20=""),"",IF(OR(AND(A20="支出",E20>0),ABS(E20)>=N($B$4)),"読む","")) | I20: =IF(F20="読む",COUNTIF($F$10:F20,"読む"),"")
A21: 支出 | E21: =IF(AND(C21="",D21=""),"",N(D21)-N(C21)) | F21: =IF(OR(B21="",E21=""),"",IF(OR(AND(A21="支出",E21>0),ABS(E21)>=N($B$4)),"読む","")) | I21: =IF(F21="読む",COUNTIF($F$10:F21,"読む"),"")
A22: 支出 | E22: =IF(AND(C22="",D22=""),"",N(D22)-N(C22)) | F22: =IF(OR(B22="",E22=""),"",IF(OR(AND(A22="支出",E22>0),ABS(E22)>=N($B$4)),"読む","")) | I22: =IF(F22="読む",COUNTIF($F$10:F22,"読む"),"")
A23: 支出 | E23: =IF(AND(C23="",D23=""),"",N(D23)-N(C23)) | F23: =IF(OR(B23="",E23=""),"",IF(OR(AND(A23="支出",E23>0),ABS(E23)>=N($B$4)),"読む","")) | I23: =IF(F23="読む",COUNTIF($F$10:F23,"読む"),"")
A24: 支出 | E24: =IF(AND(C24="",D24=""),"",N(D24)-N(C24)) | F24: =IF(OR(B24="",E24=""),"",IF(OR(AND(A24="支出",E24>0),ABS(E24)>=N($B$4)),"読む","")) | I24: =IF(F24="読む",COUNTIF($F$10:F24,"読む"),"")
A25: 支出 | E25: =IF(AND(C25="",D25=""),"",N(D25)-N(C25)) | F25: =IF(OR(B25="",E25=""),"",IF(OR(AND(A25="支出",E25>0),ABS(E25)>=N($B$4)),"読む","")) | I25: =IF(F25="読む",COUNTIF($F$10:F25,"読む"),"")
A26: 支出 | E26: =IF(AND(C26="",D26=""),"",N(D26)-N(C26)) | F26: =IF(OR(B26="",E26=""),"",IF(OR(AND(A26="支出",E26>0),ABS(E26)>=N($B$4)),"読む","")) | I26: =IF(F26="読む",COUNTIF($F$10:F26,"読む"),"")
A27: 支出 | E27: =IF(AND(C27="",D27=""),"",N(D27)-N(C27)) | F27: =IF(OR(B27="",E27=""),"",IF(OR(AND(A27="支出",E27>0),ABS(E27)>=N($B$4)),"読む","")) | I27: =IF(F27="読む",COUNTIF($F$10:F27,"読む"),"")
A28: 支出 | E28: =IF(AND(C28="",D28=""),"",N(D28)-N(C28)) | F28: =IF(OR(B28="",E28=""),"",IF(OR(AND(A28="支出",E28>0),ABS(E28)>=N($B$4)),"読む","")) | I28: =IF(F28="読む",COUNTIF($F$10:F28,"読む"),"")
... A34: 支出 | E34: =IF(AND(C34="",D34=""),"",N(D34)-N(C34)) | F34: =IF(OR(B34="",E34=""),"",IF(OR(AND(A34="支出",E34>0),ABS(E34)>=N($B$4)),"読む","")) | I34: =IF(F34="読む",COUNTIF($F$10:F34,"読む"),"")

Sheet 説明原稿
A1: 決算報告の説明原稿
A3: 順 | B3: 読む文 | C3: 字数 | D3: 秒（目安）
A4: 1 | B4: =IF('説明メモ'!$B$2="","",'説明メモ'!$B$2&"年度の決算を報告します。お手元の議案書の決算報告書をご覧ください。") | C4: =IF(B4="","",LEN(B4)) | D4: =IF(C4="","",ROUND(C4*0.2,0))
A5: 2 | B5: =IF('説明メモ'!$L$12+'説明メモ'!$L$13=0,"","収入の合計は"&TEXT('説明メモ'!$L$12,"#,##0")&"円、支出の合計は"&TEXT('説明メモ'!$L$13,"#,##0")&"円でした。") | C5: =IF(B5="","",LEN(B5)) | D5: =IF(C5="","",ROUND(C5*0.2,0))
A6: 3 | B6: =IFERROR(INDEX('説明メモ'!$B$10:$B$34,MATCH(1,'説明メモ'!$I$10:$I$34,0))&"は、予算"&TEXT(INDEX('説明メモ'!$C$10:$C$34,MATCH(1,'説明メモ'!$I$10:$I$34,0)),"#,##0")&"円に対して"&TEXT(INDEX('説明メモ'!$D$10:$D$34,MATCH(1,'説明メモ'!$I$10:$I$34,0)),"#,##0")&"円で、"&TEXT(ABS(INDEX('説明メモ'!$E$10:$E$34,MATCH(1,'説明メモ'!$I$10:$I$34,0))),"#,##0")&"円"&IF(INDEX('説明メモ'!$E$10:$E$34,MATCH(1,'説明メモ'!$I$10:$I$34,0))>0,"多く","少なく")&"なりました。"&INDEX('説明メモ'!$G$10:$G$34,MATCH(1,'説明メモ'!$I$10:$I$34,0))&"","") | C6: =IF(B6="","",LEN(B6)) | D6: =IF(C6="","",ROUND(C6*0.2,0))
A7: 4 | B7: =IFERROR(INDEX('説明メモ'!$B$10:$B$34,MATCH(2,'説明メモ'!$I$10:$I$34,0))&"は、予算"&TEXT(INDEX('説明メモ'!$C$10:$C$34,MATCH(2,'説明メモ'!$I$10:$I$34,0)),"#,##0")&"円に対して"&TEXT(INDEX('説明メモ'!$D$10:$D$34,MATCH(2,'説明メモ'!$I$10:$I$34,0)),"#,##0")&"円で、"&TEXT(ABS(INDEX('説明メモ'!$E$10:$E$34,MATCH(2,'説明メモ'!$I$10:$I$34,0))),"#,##0")&"円"&IF(INDEX('説明メモ'!$E$10:$E$34,MATCH(2,'説明メモ'!$I$10:$I$34,0))>0,"多く","少なく")&"なりました。"&INDEX('説明メモ'!$G$10:$G$34,MATCH(2,'説明メモ'!$I$10:$I$34,0))&"","") | C7: =IF(B7="","",LEN(B7)) | D7: =IF(C7="","",ROUND(C7*0.2,0))
A8: 5 | B8: =IFERROR(INDEX('説明メモ'!$B$10:$B$34,MATCH(3,'説明メモ'!$I$10:$I$34,0))&"は、予算"&TEXT(INDEX('説明メモ'!$C$10:$C$34,MATCH(3,'説明メモ'!$I$10:$I$34,0)),"#,##0")&"円に対して"&TEXT(INDEX('説明メモ'!$D$10:$D$34,MATCH(3,'説明メモ'!$I$10:$I$34,0)),"#,##0")&"円で、"&TEXT(ABS(INDEX('説明メモ'!$E$10:$E$34,MATCH(3,'説明メモ'!$I$10:$I$34,0))),"#,##0")&"円"&IF(INDEX('説明メモ'!$E$10:$E$34,MATCH(3,'説明メモ'!$I$10:$I$34,0))>0,"多く","少なく")&"なりました。"&INDEX('説明メモ'!$G$10:$G$34,MATCH(3,'説明メモ'!$I$10:$I$34,0))&"","") | C8: =IF(B8="","",LEN(B8)) | D8: =IF(C8="","",ROUND(C8*0.2,0))
A9: 6 | B9: =IFERROR(INDEX('説明メモ'!$B$10:$B$34,MATCH(4,'説明メモ'!$I$10:$I$34,0))&"は、予算"&TEXT(INDEX('説明メモ'!$C$10:$C$34,MATCH(4,'説明メモ'!$I$10:$I$34,0)),"#,##0")&"円に対して"&TEXT(INDEX('説明メモ'!$D$10:$D$34,MATCH(4,'説明メモ'!$I$10:$I$34,0)),"#,##0")&"円で、"&TEXT(ABS(INDEX('説明メモ'!$E$10:$E$34,MATCH(4,'説明メモ'!$I$10:$I$34,0))),"#,##0")&"円"&IF(INDEX('説明メモ'!$E$10:$E$34,MATCH(4,'説明メモ'!$I$10:$I$34,0))>0,"多く","少なく")&"なりました。"&INDEX('説明メモ'!$G$10:$G$34,MATCH(4,'説明メモ'!$I$10:$I$34,0))&"","") | C9: =IF(B9="","",LEN(B9)) | D9: =IF(C9="","",ROUND(C9*0.2,0))
A10: 7 | B10: =IFERROR(INDEX('説明メモ'!$B$10:$B$34,MATCH(5,'説明メモ'!$I$10:$I$34,0))&"は、予算"&TEXT(INDEX('説明メモ'!$C$10:$C$34,MATCH(5,'説明メモ'!$I$10:$I$34,0)),"#,##0")&"円に対して"&TEXT(INDEX('説明メモ'!$D$10:$D$34,MATCH(5,'説明メモ'!$I$10:$I$34,0)),"#,##0")&"円で、"&TEXT(ABS(INDEX('説明メモ'!$E$10:$E$34,MATCH(5,'説明メモ'!$I$10:$I$34,0))),"#,##0")&"円"&IF(INDEX('説明メモ'!$E$10:$E$34,MATCH(5,'説明メモ'!$I$10:$I$34,0))>0,"多く","少なく")&"なりました。"&INDEX('説明メモ'!$G$10:$G$34,MATCH(5,'説明メモ'!$I$10:$I$34,0))&"","") | C10: =IF(B10="","",LEN(B10)) | D10: =IF(C10="","",ROUND(C10*0.2,0))
A11: 8 | B11: =IFERROR(INDEX('説明メモ'!$B$10:$B$34,MATCH(6,'説明メモ'!$I$10:$I$34,0))&"は、予算"&TEXT(INDEX('説明メモ'!$C$10:$C$34,MATCH(6,'説明メモ'!$I$10:$I$34,0)),"#,##0")&"円に対して"&TEXT(INDEX('説明メモ'!$D$10:$D$34,MATCH(6,'説明メモ'!$I$10:$I$34,0)),"#,##0")&"円で、"&TEXT(ABS(INDEX('説明メモ'!$E$10:$E$34,MATCH(6,'説明メモ'!$I$10:$I$34,0))),"#,##0")&"円"&IF(INDEX('説明メモ'!$E$10:$E$34,MATCH(6,'説明メモ'!$I$10:$I$34,0))>0,"多く","少なく")&"なりました。"&INDEX('説明メモ'!$G$10:$G$34,MATCH(6,'説明メモ'!$I$10:$I$34,0))&"","") | C11: =IF(B11="","",LEN(B11)) | D11: =IF(C11="","",ROUND(C11*0.2,0))
A12: 9 | B12: =IF('説明メモ'!$L$12+'説明メモ'!$L$13=0,"","差し引き"&TEXT('説明メモ'!$L$14,"#,##0")&"円を次年度に繰り越します。"&IF('説明メモ'!$L$15=0,"前年度の繰越金と同じです。","前年度の繰越金より"&TEXT(ABS('説明メモ'!$L$15),"#,##0")&"円"&IF('説明メモ'!$L$15<0,"少なく","多く")&"なりました。")&'説明メモ'!$B$6&"") | C12: =IF(B12="","",LEN(B12)) | D12: =IF(C12="","",ROUND(C12*0.2,0))
A13: 10 | B13: 以上で決算の報告を終わります。続いて監事から監査報告をお願いします。 | C13: =IF(B13="","",LEN(B13)) | D13: =IF(C13="","",ROUND(C13*0.2,0))
B15: 読む字数と秒数の合計 | C15: =SUM(C4:C13) | D15: =SUM(D4:D13)
B16: 分（目安） | D16: =ROUND(D15/60,1)
A18: =IF(N('説明メモ'!$L$16)>6,"読む行が7つ以上あります。説明メモの B4 を大きくするか、理由の文を短くしてください。","")

Sheet 想定問答
A1: 想定問答
A3: No | B3: 質問 | C3: 種類 | D3: 答える人 | E3: 答え（1〜2文） | F3: 開く紙 | G3: 確かめた | I3: 項目 | J3: 数
A4: =IF(B4="","",ROW()-3) | B4: 会費が予算より5,000円少ないのはなぜですか | C4: 予算と違う行 | D4: 会計 | F4: 決算書の備考、集金の記録 | I4: 質問の数 | J4: =COUNTIF(B4:B33,"?*")
A5: =IF(B5="","",ROW()-3) | B5: 事務経費が予算を1,500円超えたのはなぜですか。誰が決めましたか | C5: 予算と違う行 | D5: 会長 | F5: 出納帳の事務経費の行、役員会の記録 | I5: 答えがまだの質問 | J5: =COUNTIFS(B4:B33,"?*",E4:E33,"")
A6: =IF(B6="","",ROW()-3) | B6: 予備費を使わないなら、予算に置かなくてよいのでは | C6: 予算と違う行 | D6: 会長 | F6: 予算書 | I6: 持ち帰る質問 | J6: =COUNTIF(D4:D33,"持ち帰る")
A7: =IF(B7="","",ROW()-3) | B7: 繰越金が2,070円減ったのはなぜですか | C7: 繰越金 | D7: 会計 | F7: 決算書の合計、出納帳の什器備品費の行 | I7: 確かめた質問 | J7: =COUNTIF(G4:G33,"済")
A8: =IF(B8="","",ROW()-3) | B8: 繰越金があるなら、会費を下げられませんか | C8: 繰越金 | D8: 会長 | F8: 予算案
A9: =IF(B9="","",ROW()-3) | B9: 慶弔費の10,000円は、何に使いましたか | C9: 支出の中身 | D9: 会計 | F9: 出納帳の摘要、領収書
A10: =IF(B10="","",ROW()-3) | B10: 役員会のお茶代は、会費から出してよいのですか | C10: 支出の中身 | D10: 会長 | F10: 会議費の行、役員会の記録
A11: =IF(B11="","",ROW()-3) | B11: 領収書の無い支出はありませんか | C11: 支出の中身 | D11: 監事 | F11: 監査のチェック表
A12: =IF(B12="","",ROW()-3)
A13: =IF(B13="","",ROW()-3)
A14: =IF(B14="","",ROW()-3)
A15: =IF(B15="","",ROW()-3)
A16: =IF(B16="","",ROW()-3)
A17: =IF(B17="","",ROW()-3)
A18: =IF(B18="","",ROW()-3)
A19: =IF(B19="","",ROW()-3)
A20: =IF(B20="","",ROW()-3)
A21: =IF(B21="","",ROW()-3)
A22: =IF(B22="","",ROW()-3)
A23: =IF(B23="","",ROW()-3)
... A33: =IF(B33="","",ROW()-3)
