Workbook

Sheet 使い方
A1: 自治会費の領収書つづりの使い方
A3: 手順 | B3: 何をする | C3: どこに入れる
A4: 1 | B4: 年度の始まる年を入れる（2026年4月〜2027年3月なら 2026） | C4: 会費の受け取り B2
A5: 2 | B5: 会の名前、受け取る人の名前（会計）、1世帯の年の会費を入れる | C5: 会費の受け取り B3・B4・B5
A6: 3 | B6: 名簿を見て、班と宛名を1行ずつ入れる。金額が年の会費と違う世帯だけ金額を入れる。班長さんが集める班は、受け取った人に班長さんの名前を入れる（空なら会計の名前が出る） | C6: 会費の受け取り B・C・D・G 列
A7: 4 | B7: 「領収書」のシートを印刷する。1枚に3組。点線で切り、左の控えを残して右を渡す | C7: 領収書
A8: 5 | B8: 受け取った日を入れる。書き損じた番号は「書き損じ」を選ぶ | C8: 会費の受け取り F・H 列
A9: 6 | B9: 出納帳に書いた会費収入を入れ、「一致」と出るかを見る | C9: 会費の受け取り M15
A11: 会費の領収書には収入印紙を貼りません。親睦や地域の活動を目的とする自治会が受け取る会費の領収書は、国税庁の扱いで『営業に関しない受取書』に当たります（タックスアンサー No.7125）。
A12: 会費のほかに、駐車場や集会所を貸して受け取る5万円以上のお金の領収書は、印紙の要否に迷えば税務署で確かめてください。
A13: 書き損じた領収書は捨てずに、控えと一緒に残します。監査では、番号が飛んでいないかを見ます。
A14: 宛名が空の組は、番号と会の名前・受け取る人の名前だけが入った手書き用の領収書として印刷されます。

Sheet 会費の受け取り
A1: 自治会費の受け取りの記録
A2: 年度の始まる年 | C2: ← 2026年4月〜2027年3月なら 2026 と入れる
A3: 会の名前
A4: 受け取る人の名前（会計）
A5: 1世帯の年の会費
A6: 但し書き（年の会費） | B6: =IF(B2="","",B2&"年度 自治会費（"&B2&"年4月〜"&(B2+1)&"年3月分）として")
A9: 番号 | B9: 班 | C9: 宛名 | D9: 金額（空なら年の会費） | E9: 但し書き（空なら年の会費の文） | F9: 受け取った日 | G9: 受け取った人 | H9: 書き損じ | I9: 状況 | J9: 受け取った額 | L9: 項目 | M9: 結果
A10: =IF($B$2="",ROW()-9,$B$2&"-"&RIGHT("00"&(ROW()-9),3)) | I10: =IF(H10="書き損じ","書き損じ",IF(C10="","",IF(F10="","未受領","受領済み"))) | J10: =IF(I10="受領済み",IF(D10="",N($B$5),D10),0) | L10: 宛名を書いた行 | M10: =COUNTA(C10:C57)
A11: =IF($B$2="",ROW()-9,$B$2&"-"&RIGHT("00"&(ROW()-9),3)) | I11: =IF(H11="書き損じ","書き損じ",IF(C11="","",IF(F11="","未受領","受領済み"))) | J11: =IF(I11="受領済み",IF(D11="",N($B$5),D11),0) | L11: 受領済み | M11: =COUNTIF(I10:I57,"受領済み")
A12: =IF($B$2="",ROW()-9,$B$2&"-"&RIGHT("00"&(ROW()-9),3)) | I12: =IF(H12="書き損じ","書き損じ",IF(C12="","",IF(F12="","未受領","受領済み"))) | J12: =IF(I12="受領済み",IF(D12="",N($B$5),D12),0) | L12: まだ受け取っていない | M12: =COUNTIF(I10:I57,"未受領")
A13: =IF($B$2="",ROW()-9,$B$2&"-"&RIGHT("00"&(ROW()-9),3)) | I13: =IF(H13="書き損じ","書き損じ",IF(C13="","",IF(F13="","未受領","受領済み"))) | J13: =IF(I13="受領済み",IF(D13="",N($B$5),D13),0) | L13: 書き損じ | M13: =COUNTIF(H10:H57,"書き損じ")
A14: =IF($B$2="",ROW()-9,$B$2&"-"&RIGHT("00"&(ROW()-9),3)) | I14: =IF(H14="書き損じ","書き損じ",IF(C14="","",IF(F14="","未受領","受領済み"))) | J14: =IF(I14="受領済み",IF(D14="",N($B$5),D14),0) | L14: 受け取った額 | M14: =SUM(J10:J57)
A15: =IF($B$2="",ROW()-9,$B$2&"-"&RIGHT("00"&(ROW()-9),3)) | I15: =IF(H15="書き損じ","書き損じ",IF(C15="","",IF(F15="","未受領","受領済み"))) | J15: =IF(I15="受領済み",IF(D15="",N($B$5),D15),0) | L15: 出納帳に書いた会費収入
A16: =IF($B$2="",ROW()-9,$B$2&"-"&RIGHT("00"&(ROW()-9),3)) | I16: =IF(H16="書き損じ","書き損じ",IF(C16="","",IF(F16="","未受領","受領済み"))) | J16: =IF(I16="受領済み",IF(D16="",N($B$5),D16),0) | L16: 出納帳と | M16: =IF(M15="","",IF(M15=M14,"一致","差 "&(M15-M14)&" 円"))
A17: =IF($B$2="",ROW()-9,$B$2&"-"&RIGHT("00"&(ROW()-9),3)) | I17: =IF(H17="書き損じ","書き損じ",IF(C17="","",IF(F17="","未受領","受領済み"))) | J17: =IF(I17="受領済み",IF(D17="",N($B$5),D17),0) | L17: 5万円以上の行（印紙を確かめる） | M17: =COUNTIF(D10:D57,">=50000")
A18: =IF($B$2="",ROW()-9,$B$2&"-"&RIGHT("00"&(ROW()-9),3)) | I18: =IF(H18="書き損じ","書き損じ",IF(C18="","",IF(F18="","未受領","受領済み"))) | J18: =IF(I18="受領済み",IF(D18="",N($B$5),D18),0)
A19: =IF($B$2="",ROW()-9,$B$2&"-"&RIGHT("00"&(ROW()-9),3)) | I19: =IF(H19="書き損じ","書き損じ",IF(C19="","",IF(F19="","未受領","受領済み"))) | J19: =IF(I19="受領済み",IF(D19="",N($B$5),D19),0)
A20: =IF($B$2="",ROW()-9,$B$2&"-"&RIGHT("00"&(ROW()-9),3)) | I20: =IF(H20="書き損じ","書き損じ",IF(C20="","",IF(F20="","未受領","受領済み"))) | J20: =IF(I20="受領済み",IF(D20="",N($B$5),D20),0)
A21: =IF($B$2="",ROW()-9,$B$2&"-"&RIGHT("00"&(ROW()-9),3)) | I21: =IF(H21="書き損じ","書き損じ",IF(C21="","",IF(F21="","未受領","受領済み"))) | J21: =IF(I21="受領済み",IF(D21="",N($B$5),D21),0)
A22: =IF($B$2="",ROW()-9,$B$2&"-"&RIGHT("00"&(ROW()-9),3)) | I22: =IF(H22="書き損じ","書き損じ",IF(C22="","",IF(F22="","未受領","受領済み"))) | J22: =IF(I22="受領済み",IF(D22="",N($B$5),D22),0)
A23: =IF($B$2="",ROW()-9,$B$2&"-"&RIGHT("00"&(ROW()-9),3)) | I23: =IF(H23="書き損じ","書き損じ",IF(C23="","",IF(F23="","未受領","受領済み"))) | J23: =IF(I23="受領済み",IF(D23="",N($B$5),D23),0)
A24: =IF($B$2="",ROW()-9,$B$2&"-"&RIGHT("00"&(ROW()-9),3)) | I24: =IF(H24="書き損じ","書き損じ",IF(C24="","",IF(F24="","未受領","受領済み"))) | J24: =IF(I24="受領済み",IF(D24="",N($B$5),D24),0)
A25: =IF($B$2="",ROW()-9,$B$2&"-"&RIGHT("00"&(ROW()-9),3)) | I25: =IF(H25="書き損じ","書き損じ",IF(C25="","",IF(F25="","未受領","受領済み"))) | J25: =IF(I25="受領済み",IF(D25="",N($B$5),D25),0)
A26: =IF($B$2="",ROW()-9,$B$2&"-"&RIGHT("00"&(ROW()-9),3)) | I26: =IF(H26="書き損じ","書き損じ",IF(C26="","",IF(F26="","未受領","受領済み"))) | J26: =IF(I26="受領済み",IF(D26="",N($B$5),D26),0)
A27: =IF($B$2="",ROW()-9,$B$2&"-"&RIGHT("00"&(ROW()-9),3)) | I27: =IF(H27="書き損じ","書き損じ",IF(C27="","",IF(F27="","未受領","受領済み"))) | J27: =IF(I27="受領済み",IF(D27="",N($B$5),D27),0)
A28: =IF($B$2="",ROW()-9,$B$2&"-"&RIGHT("00"&(ROW()-9),3)) | I28: =IF(H28="書き損じ","書き損じ",IF(C28="","",IF(F28="","未受領","受領済み"))) | J28: =IF(I28="受領済み",IF(D28="",N($B$5),D28),0)
A29: =IF($B$2="",ROW()-9,$B$2&"-"&RIGHT("00"&(ROW()-9),3)) | I29: =IF(H29="書き損じ","書き損じ",IF(C29="","",IF(F29="","未受領","受領済み"))) | J29: =IF(I29="受領済み",IF(D29="",N($B$5),D29),0)
... A57: =IF($B$2="",ROW()-9,$B$2&"-"&RIGHT("00"&(ROW()-9),3)) | I57: =IF(H57="書き損じ","書き損じ",IF(C57="","",IF(F57="","未受領","受領済み"))) | J57: =IF(I57="受領済み",IF(D57="",N($B$5),D57),0)
A59: 書き損じた行は消さずに残します。同じ世帯には、空いている次の行で出し直します。

Sheet 領収書
A1: 控え | C1: No. | D1: =INDEX('会費の受け取り'!$A$10:$A$57,1)&"" | F1: =IF(INDEX('会費の受け取り'!$H$10:$H$57,1)&""="書き損じ","書き損じ","領 収 書") | K1: No. | L1: =INDEX('会費の受け取り'!$A$10:$A$57,1)&""
A2: 日付 | B2: =IF(INDEX('会費の受け取り'!$F$10:$F$57,1)=""," 年 月 日",INDEX('会費の受け取り'!$F$10:$F$57,1)) | J2: =IF(INDEX('会費の受け取り'!$F$10:$F$57,1)=""," 年 月 日",INDEX('会費の受け取り'!$F$10:$F$57,1))
A3: 宛名 | B3: =INDEX('会費の受け取り'!$C$10:$C$57,1)&"" | F3: =INDEX('会費の受け取り'!$C$10:$C$57,1)&"" | K3: 様
A4: 金額 | B4: =IF(INDEX('会費の受け取り'!$C$10:$C$57,1)="","",IF(INDEX('会費の受け取り'!$D$10:$D$57,1)="",N('会費の受け取り'!$B$5),INDEX('会費の受け取り'!$D$10:$D$57,1))) | F4: 金額 | G4: =IF(INDEX('会費の受け取り'!$C$10:$C$57,1)="","",IF(INDEX('会費の受け取り'!$D$10:$D$57,1)="",N('会費の受け取り'!$B$5),INDEX('会費の受け取り'!$D$10:$D$57,1)))
A5: 但し書き | B5: =IF(INDEX('会費の受け取り'!$C$10:$C$57,1)="","",IF(INDEX('会費の受け取り'!$E$10:$E$57,1)&""<>"",INDEX('会費の受け取り'!$E$10:$E$57,1)&"",'会費の受け取り'!$B$6&"")) | F5: ="但し "&IF(INDEX('会費の受け取り'!$C$10:$C$57,1)="","",IF(INDEX('会費の受け取り'!$E$10:$E$57,1)&""<>"",INDEX('会費の受け取り'!$E$10:$E$57,1)&"",'会費の受け取り'!$B$6&""))
A6: 受け取った人 | B6: =IF(INDEX('会費の受け取り'!$G$10:$G$57,1)&""<>"",INDEX('会費の受け取り'!$G$10:$G$57,1)&"",'会費の受け取り'!$B$4&"") | F6: 上記の金額を受け取りました。
A7: =IF(INDEX('会費の受け取り'!$H$10:$H$57,1)&""="書き損じ","書き損じ","")
H8: =IF('会費の受け取り'!$B$3="","",'会費の受け取り'!$B$3)
H9: =IF(INDEX('会費の受け取り'!$G$10:$G$57,1)&""<>"",INDEX('会費の受け取り'!$G$10:$G$57,1)&"",'会費の受け取り'!$B$4&"") | L9: 印
A12: 控え | C12: No. | D12: =INDEX('会費の受け取り'!$A$10:$A$57,2)&"" | F12: =IF(INDEX('会費の受け取り'!$H$10:$H$57,2)&""="書き損じ","書き損じ","領 収 書") | K12: No. | L12: =INDEX('会費の受け取り'!$A$10:$A$57,2)&""
A13: 日付 | B13: =IF(INDEX('会費の受け取り'!$F$10:$F$57,2)=""," 年 月 日",INDEX('会費の受け取り'!$F$10:$F$57,2)) | J13: =IF(INDEX('会費の受け取り'!$F$10:$F$57,2)=""," 年 月 日",INDEX('会費の受け取り'!$F$10:$F$57,2))
A14: 宛名 | B14: =INDEX('会費の受け取り'!$C$10:$C$57,2)&"" | F14: =INDEX('会費の受け取り'!$C$10:$C$57,2)&"" | K14: 様
A15: 金額 | B15: =IF(INDEX('会費の受け取り'!$C$10:$C$57,2)="","",IF(INDEX('会費の受け取り'!$D$10:$D$57,2)="",N('会費の受け取り'!$B$5),INDEX('会費の受け取り'!$D$10:$D$57,2))) | F15: 金額 | G15: =IF(INDEX('会費の受け取り'!$C$10:$C$57,2)="","",IF(INDEX('会費の受け取り'!$D$10:$D$57,2)="",N('会費の受け取り'!$B$5),INDEX('会費の受け取り'!$D$10:$D$57,2)))
A16: 但し書き | B16: =IF(INDEX('会費の受け取り'!$C$10:$C$57,2)="","",IF(INDEX('会費の受け取り'!$E$10:$E$57,2)&""<>"",INDEX('会費の受け取り'!$E$10:$E$57,2)&"",'会費の受け取り'!$B$6&"")) | F16: ="但し "&IF(INDEX('会費の受け取り'!$C$10:$C$57,2)="","",IF(INDEX('会費の受け取り'!$E$10:$E$57,2)&""<>"",INDEX('会費の受け取り'!$E$10:$E$57,2)&"",'会費の受け取り'!$B$6&""))
A17: 受け取った人 | B17: =IF(INDEX('会費の受け取り'!$G$10:$G$57,2)&""<>"",INDEX('会費の受け取り'!$G$10:$G$57,2)&"",'会費の受け取り'!$B$4&"") | F17: 上記の金額を受け取りました。
A18: =IF(INDEX('会費の受け取り'!$H$10:$H$57,2)&""="書き損じ","書き損じ","")
H19: =IF('会費の受け取り'!$B$3="","",'会費の受け取り'!$B$3)
H20: =IF(INDEX('会費の受け取り'!$G$10:$G$57,2)&""<>"",INDEX('会費の受け取り'!$G$10:$G$57,2)&"",'会費の受け取り'!$B$4&"") | L20: 印
A23: 控え | C23: No. | D23: =INDEX('会費の受け取り'!$A$10:$A$57,3)&"" | F23: =IF(INDEX('会費の受け取り'!$H$10:$H$57,3)&""="書き損じ","書き損じ","領 収 書") | K23: No. | L23: =INDEX('会費の受け取り'!$A$10:$A$57,3)&""
A24: 日付 | B24: =IF(INDEX('会費の受け取り'!$F$10:$F$57,3)=""," 年 月 日",INDEX('会費の受け取り'!$F$10:$F$57,3)) | J24: =IF(INDEX('会費の受け取り'!$F$10:$F$57,3)=""," 年 月 日",INDEX('会費の受け取り'!$F$10:$F$57,3))
A25: 宛名 | B25: =INDEX('会費の受け取り'!$C$10:$C$57,3)&"" | F25: =INDEX('会費の受け取り'!$C$10:$C$57,3)&"" | K25: 様
A26: 金額 | B26: =IF(INDEX('会費の受け取り'!$C$10:$C$57,3)="","",IF(INDEX('会費の受け取り'!$D$10:$D$57,3)="",N('会費の受け取り'!$B$5),INDEX('会費の受け取り'!$D$10:$D$57,3))) | F26: 金額 | G26: =IF(INDEX('会費の受け取り'!$C$10:$C$57,3)="","",IF(INDEX('会費の受け取り'!$D$10:$D$57,3)="",N('会費の受け取り'!$B$5),INDEX('会費の受け取り'!$D$10:$D$57,3)))
A27: 但し書き | B27: =IF(INDEX('会費の受け取り'!$C$10:$C$57,3)="","",IF(INDEX('会費の受け取り'!$E$10:$E$57,3)&""<>"",INDEX('会費の受け取り'!$E$10:$E$57,3)&"",'会費の受け取り'!$B$6&"")) | F27: ="但し "&IF(INDEX('会費の受け取り'!$C$10:$C$57,3)="","",IF(INDEX('会費の受け取り'!$E$10:$E$57,3)&""<>"",INDEX('会費の受け取り'!$E$10:$E$57,3)&"",'会費の受け取り'!$B$6&""))
A28: 受け取った人 | B28: =IF(INDEX('会費の受け取り'!$G$10:$G$57,3)&""<>"",INDEX('会費の受け取り'!$G$10:$G$57,3)&"",'会費の受け取り'!$B$4&"") | F28: 上記の金額を受け取りました。
A29: =IF(INDEX('会費の受け取り'!$H$10:$H$57,3)&""="書き損じ","書き損じ","")
H30: =IF('会費の受け取り'!$B$3="","",'会費の受け取り'!$B$3)
H31: =IF(INDEX('会費の受け取り'!$G$10:$G$57,3)&""<>"",INDEX('会費の受け取り'!$G$10:$G$57,3)&"",'会費の受け取り'!$B$4&"") | L31: 印
A34: 控え | C34: No. | D34: =INDEX('会費の受け取り'!$A$10:$A$57,4)&"" | F34: =IF(INDEX('会費の受け取り'!$H$10:$H$57,4)&""="書き損じ","書き損じ","領 収 書") | K34: No. | L34: =INDEX('会費の受け取り'!$A$10:$A$57,4)&""
A35: 日付 | B35: =IF(INDEX('会費の受け取り'!$F$10:$F$57,4)=""," 年 月 日",INDEX('会費の受け取り'!$F$10:$F$57,4)) | J35: =IF(INDEX('会費の受け取り'!$F$10:$F$57,4)=""," 年 月 日",INDEX('会費の受け取り'!$F$10:$F$57,4))
A36: 宛名 | B36: =INDEX('会費の受け取り'!$C$10:$C$57,4)&"" | F36: =INDEX('会費の受け取り'!$C$10:$C$57,4)&"" | K36: 様
A37: 金額 | B37: =IF(INDEX('会費の受け取り'!$C$10:$C$57,4)="","",IF(INDEX('会費の受け取り'!$D$10:$D$57,4)="",N('会費の受け取り'!$B$5),INDEX('会費の受け取り'!$D$10:$D$57,4))) | F37: 金額 | G37: =IF(INDEX('会費の受け取り'!$C$10:$C$57,4)="","",IF(INDEX('会費の受け取り'!$D$10:$D$57,4)="",N('会費の受け取り'!$B$5),INDEX('会費の受け取り'!$D$10:$D$57,4)))
A38: 但し書き | B38: =IF(INDEX('会費の受け取り'!$C$10:$C$57,4)="","",IF(INDEX('会費の受け取り'!$E$10:$E$57,4)&""<>"",INDEX('会費の受け取り'!$E$10:$E$57,4)&"",'会費の受け取り'!$B$6&"")) | F38: ="但し "&IF(INDEX('会費の受け取り'!$C$10:$C$57,4)="","",IF(INDEX('会費の受け取り'!$E$10:$E$57,4)&""<>"",INDEX('会費の受け取り'!$E$10:$E$57,4)&"",'会費の受け取り'!$B$6&""))
A39: 受け取った人 | B39: =IF(INDEX('会費の受け取り'!$G$10:$G$57,4)&""<>"",INDEX('会費の受け取り'!$G$10:$G$57,4)&"",'会費の受け取り'!$B$4&"") | F39: 上記の金額を受け取りました。
A40: =IF(INDEX('会費の受け取り'!$H$10:$H$57,4)&""="書き損じ","書き損じ","")
H41: =IF('会費の受け取り'!$B$3="","",'会費の受け取り'!$B$3)
H42: =IF(INDEX('会費の受け取り'!$G$10:$G$57,4)&""<>"",INDEX('会費の受け取り'!$G$10:$G$57,4)&"",'会費の受け取り'!$B$4&"") | L42: 印
A45: 控え | C45: No. | D45: =INDEX('会費の受け取り'!$A$10:$A$57,5)&"" | F45: =IF(INDEX('会費の受け取り'!$H$10:$H$57,5)&""="書き損じ","書き損じ","領 収 書") | K45: No. | L45: =INDEX('会費の受け取り'!$A$10:$A$57,5)&""
A46: 日付 | B46: =IF(INDEX('会費の受け取り'!$F$10:$F$57,5)=""," 年 月 日",INDEX('会費の受け取り'!$F$10:$F$57,5)) | J46: =IF(INDEX('会費の受け取り'!$F$10:$F$57,5)=""," 年 月 日",INDEX('会費の受け取り'!$F$10:$F$57,5))
A47: 宛名 | B47: =INDEX('会費の受け取り'!$C$10:$C$57,5)&"" | F47: =INDEX('会費の受け取り'!$C$10:$C$57,5)&"" | K47: 様
A48: 金額 | B48: =IF(INDEX('会費の受け取り'!$C$10:$C$57,5)="","",IF(INDEX('会費の受け取り'!$D$10:$D$57,5)="",N('会費の受け取り'!$B$5),INDEX('会費の受け取り'!$D$10:$D$57,5))) | F48: 金額 | G48: =IF(INDEX('会費の受け取り'!$C$10:$C$57,5)="","",IF(INDEX('会費の受け取り'!$D$10:$D$57,5)="",N('会費の受け取り'!$B$5),INDEX('会費の受け取り'!$D$10:$D$57,5)))
...
